BEGIN:VCALENDAR
PRODID:-//AT Content Types//AT Event//EN
VERSION:1.0
BEGIN:VEVENT
DTSTART:20091023T100500Z
DTEND:20091025T220500Z
DCREATED:20091023T100507Z
UID:ATEvent-9a00150f7ce977c3264fb8d5ce8cd834
SEQUENCE:0
LAST-MODIFIED:20091231T070347Z
SUMMARY:workshop
LOCATION:217
PRIORITY:3
TRANSP:0
END:VEVENT
END:VCALENDAR
